BEGIN:VCALENDAR
VERSION:2.0
PRODID:-//Enskede Ridsällskap - ECPv4.9.2//NONSGML v1.0//EN
CALSCALE:GREGORIAN
METHOD:PUBLISH
X-WR-CALNAME:Enskede Ridsällskap
X-ORIGINAL-URL:https://www.enskederidsallskap.se
X-WR-CALDESC:Händelser för Enskede Ridsällskap
BEGIN:VEVENT
DTSTART;VALUE=DATE:20200312
DTEND;VALUE=DATE:20200401
DTSTAMP:20260419T134133
CREATED:20200312T144930Z
LAST-MODIFIED:20200312T144930Z
UID:6406-1583971200-1585699199@www.enskederidsallskap.se
SUMMARY:Viktig information!
DESCRIPTION:All avsutten barn- och ungdomsverksamhet på Enskede Ridskola är inställd tills vidare. \nHar du frågor eller funderingar maila till: medlem@enskederidsallskap.se \nRidsällskapet och Ridskolan kommer att uppdatera löpande. \n
URL:https://www.enskederidsallskap.se/event/viktig-information/
LOCATION:Enskede Ridskola\, Enskede gårdsväg\, Enskede\, Sweden
CATEGORIES:Klubben,Unga
ATTACH;FMTTYPE=image/jpeg:https://www.enskederidsallskap.se/wp-content/uploads/2020/03/Info.jpg
END:VEVENT
END:VCALENDAR