BEGIN:VCALENDAR
VERSION:2.0
PRODID:-//Enskede Ridsällskap - ECPv4.9.2//NONSGML v1.0//EN
CALSCALE:GREGORIAN
METHOD:PUBLISH
X-WR-CALNAME:Enskede Ridsällskap
X-ORIGINAL-URL:https://www.enskederidsallskap.se
X-WR-CALDESC:Händelser för Enskede Ridsällskap
BEGIN:VEVENT
DTSTART;VALUE=DATE:20201011
DTEND;VALUE=DATE:20201012
DTSTAMP:20260419T223450
CREATED:20200923T110827Z
LAST-MODIFIED:20201009T173906Z
UID:6514-1602374400-1602460799@www.enskederidsallskap.se
SUMMARY:Programridning Lätt C:2 och Lätt B:1 - Med startlista
DESCRIPTION: \nSöndagen den 11 oktober har vi programridning i Lätt C:2 och Lätt B:1. \nDomare: Ulrica Jonsson \nAvgift: Häst 570 kr Ponny 530 kr (400/360 kr för hästhyra samt 170 kr för domaren & administrativ avgift).\nBetalning EFTER att deltagarlistan mailats ut och ENDAST via Swishnummer 1230295196 senast 6 oktober\, de som inte betalat stryks. \nAnmälan: Anmälan görs här i TDB fr.o.m. 22 september t.o.m. 4 oktober kl 18:00. Hästarnas licensnummer hittar du här. \nFör att få delta ska du först ha få din start godkänd av din instruktör på vald häst i vald klass. I TDB anmäler man sitt förstahandsval och i notisfältet ”meddelande till arrangör” anges ev. andra och tredjehandsval av ponny/häst. Vid flera på samma häst eller fler än 10 anmälda lottar tävlingsledning och ridskolan vilka som får delta. \nMax 10 deltagare. Hästar och ponnyer får gå max 2 gånger var\, önskar fler samma häst/ponny eller deltagarantalet överskrider 10 tillämpas lottning. \nSamling 13.00 på tävlingsdagen\, första start beräknas till 14.00 \nProgramträningen går till så att man har 20 minuters framridning i lilla ridhuset. Därefter har man 15 minuter i stora ridhuset med domaren som först bedömer programmet och därefter ger dig muntlig feedback och du får rida om vissa delar eller hela programmet en gång till. \nPrydlig klädsel\, knoppning valfritt. \nOBS! Avanmälan måste göras i TDB\, avanmälan efter den 10 oktober 2020 kl.12 återbetalas ej. Avanmälan måste också göras i Hippocrates och meddelas Camilla Holm på telefon. Vid avanmälan efter den 6 oktober betalas inte domararvodet och administrativ avgift tillbaka (170 kr) \nHar du frågor kontakta Camilla Holm på mejl milla.holm@live.se el sms 070-4393029 \n
URL:https://www.enskederidsallskap.se/event/programridning-latt-c2-och-latt-b1-11-oktober/
CATEGORIES:Dressyr,Klubbtävling,Tävling
ATTACH;FMTTYPE=image/jpeg:https://www.enskederidsallskap.se/wp-content/uploads/2016/06/DSC_0189.jpg
END:VEVENT
END:VCALENDAR