BEGIN:VCALENDAR
VERSION:2.0
PRODID:-//Enskede Ridsällskap - ECPv4.9.2//NONSGML v1.0//EN
CALSCALE:GREGORIAN
METHOD:PUBLISH
X-WR-CALNAME:Enskede Ridsällskap
X-ORIGINAL-URL:https://www.enskederidsallskap.se
X-WR-CALDESC:Händelser för Enskede Ridsällskap
BEGIN:VEVENT
DTSTART;TZID=Europe/Stockholm:20200614T130000
DTEND;TZID=Europe/Stockholm:20200614T133000
DTSTAMP:20260419T180553
CREATED:20200529T093722Z
LAST-MODIFIED:20200602T161244Z
UID:6456-1592139600-1592141400@www.enskederidsallskap.se
SUMMARY:Extra Medlemsmöte 2020 - nu med bilagor
DESCRIPTION:ERS_Bilaga_1_Proposition_1_Årsmötets_godkännande_anlita_extern_revisor_2020 \nERS_Bilaga_2_Proposition_Stadgeändringar_av_ERS_föreningsstadgar_Paragraf_21_Revision \nERS_Bilaga_3_Proposition_3_Stadgeändringar_av_ERS_föreningsstadgar_enl_SvRFs_förslag \n \n  \n
URL:https://www.enskederidsallskap.se/event/extra-medlemsmote-2020/
LOCATION:Enskede Ridskola\, Enskede gårdsväg\, Enskede\, Sweden
CATEGORIES:Klubben
ATTACH;FMTTYPE=image/jpeg:https://www.enskederidsallskap.se/wp-content/uploads/2020/05/Extra-Medelmsmöte.001.jpeg
END:VEVENT
END:VCALENDAR